BEGIN:VCALENDAR
VERSION:2.0
CALSCALE:GREGORIAN
PRODID:-//Diputació de Barcelona//DibaCMS//EN
BEGIN:VEVENT
UID:4330
DTSTAMP:20260423T143636
DTSTART:20240212T100000
DTEND:20240212T130000
SUMMARY:Coneixes les eines gratuïtes per a la creació d'imatges amb Inteligència Artificial?
LOCATION:CSETC.- Josep Vilaseca, 23  08440Cardedeu 
METHOD:PUBLISH
X-WR-CALNAME:canovesisamalus@canovesisamalus.cat
X-WR-TIMEZONE:Europe/Madrid
DESCRIPTION:AULA D'EINES TECNOLÒGIQUES

URI:https://www.canovesisamalus.cat/actualitat/oferta-formativa/coneixes-les-eines-gratuites-per-a-la-creacio-dimatges-amb-inteligencia-artificial.html
CLASS:PUBLIC
END:VEVENT
END:VCALENDAR
