BEGIN:VCALENDAR
VERSION:2.0
CALSCALE:GREGORIAN
PRODID:-//Diputació de Barcelona//DibaCMS//EN
BEGIN:VEVENT
UID:434
DTSTAMP:20260424T104508
DTSTART:20170310T091500
DTEND:20170310T161500
SUMMARY:Jornada de Portes Obertes a l'escola l'Estelada
LOCATION:
METHOD:PUBLISH
X-WR-CALNAME:canovesisamalus@canovesisamalus.cat
X-WR-TIMEZONE:Europe/Madrid
DESCRIPTION:De tu a tu!

URI:https://www.canovesisamalus.cat/actualitat/agenda-municipal/jornada-de-portes-obertes-a-lescola-lestelada.html
CLASS:PUBLIC
END:VEVENT
END:VCALENDAR
