BEGIN:VCALENDAR
VERSION:2.0
CALSCALE:GREGORIAN
PRODID:-//Diputació de Barcelona//DibaCMS//EN
BEGIN:VEVENT
UID:4394
DTSTAMP:20260423T130127
DTSTART:20240427T110000
DTEND:20240427T120000
SUMMARY:Ballet: Don Quijote
LOCATION:
METHOD:PUBLISH
X-WR-CALNAME:canovesisamalus@canovesisamalus.cat
X-WR-TIMEZONE:Europe/Madrid
DESCRIPTION:Cicle Cultural de Cànoves i Samalús 2024.

Ballet: "Don Quijote Suite"
A càrrec de l'acadèmia corella.

URI:https://www.canovesisamalus.cat/actualitat/agenda-municipal/ballet-don-quijote.html
CLASS:PUBLIC
END:VEVENT
END:VCALENDAR
