BEGIN:VCALENDAR
VERSION:2.0
CALSCALE:GREGORIAN
PRODID:-//Diputació de Barcelona//DibaCMS//EN
BEGIN:VEVENT
UID:4446
DTSTAMP:20260423T130338
DTSTART:20240415T100000
DTEND:20240415T130000
SUMMARY:AULA DE MARQUETING - Webinar Eines de crowfunding per a emprendre
LOCATION:ONLINE 
METHOD:PUBLISH
X-WR-CALNAME:canovesisamalus@canovesisamalus.cat
X-WR-TIMEZONE:Europe/Madrid
DESCRIPTION:Modalitat: En línia
Adreçat a: Empreses i persones emprenedores

Formador: Valentí Acconcia

URI:https://www.canovesisamalus.cat/actualitat/oferta-formativa/aula-de-marqueting-webinar-eines-de-crowfunding-per-a-emprendre.html
CLASS:PUBLIC
END:VEVENT
END:VCALENDAR
