BEGIN:VCALENDAR
VERSION:2.0
CALSCALE:GREGORIAN
PRODID:-//Diputació de Barcelona//DibaCMS//EN
BEGIN:VEVENT
UID:4450
DTSTAMP:20260419T210930
DTSTART:20240425T100000
DTEND:20240425T120000
SUMMARY:LABORATORI SISTÈMIC - La mirada sistèmica en la gestió dels negocis
LOCATION:CSETC - Josep Vilaseca, 23 - CARDEDEU 
METHOD:PUBLISH
X-WR-CALNAME:canovesisamalus@canovesisamalus.cat
X-WR-TIMEZONE:Europe/Madrid
DESCRIPTION:Modalitat:Presencial
Adreçat a:Empreses i persones emprenedores
Objectius:
  - Conèixer el concepte d'enfocament sistèmic per a comprendre i gestionar un negoci
  - Desenvolupar la intel·ligència sistèmica pel benefici de les organitzacions
  - Aprendre els principis sistèmics de les organitzacions

URI:https://www.canovesisamalus.cat/actualitat/oferta-formativa/laboratori-sistemic-la-mirada-sistemica-en-la-gestio-dels-negocis.html
CLASS:PUBLIC
END:VEVENT
END:VCALENDAR
