BEGIN:VCALENDAR
VERSION:2.0
CALSCALE:GREGORIAN
PRODID:-//Diputació de Barcelona//DibaCMS//EN
BEGIN:VEVENT
UID:4495
DTSTAMP:20260423T124628
DTSTART:20240506T100000
DTEND:20240506T130000
SUMMARY:Webinar Saps com portar trànsit al teu ecommerce?     
LOCATION:online 
METHOD:PUBLISH
X-WR-CALNAME:canovesisamalus@canovesisamalus.cat
X-WR-TIMEZONE:Europe/Madrid
DESCRIPTION:Adreçat a Empreses i persones emprenedores
Objectius:


	Aprendre les fases del recorregut de compra d'un client
	Convertir les visites a la teva pàgina web en vendes
	Taula d'accions per objectius


URI:https://www.canovesisamalus.cat/actualitat/oferta-formativa/webinar-saps-com-portar-transit-al-teu-ecommerce-.html
CLASS:PUBLIC
END:VEVENT
END:VCALENDAR
