BEGIN:VCALENDAR
VERSION:2.0
CALSCALE:GREGORIAN
PRODID:-//Diputació de Barcelona//DibaCMS//EN
BEGIN:VEVENT
UID:466
DTSTAMP:20260422T171316
DTSTART:20170426T091500
DTEND:20170426T121500
SUMMARY:Taller d'autoprotecció, suport vital bàsic i DEA
LOCATION:
METHOD:PUBLISH
X-WR-CALNAME:canovesisamalus@canovesisamalus.cat
X-WR-TIMEZONE:Europe/Madrid
DESCRIPTION:Taller d'autoprotecció, suport vital bàsic i DEA

URI:https://www.canovesisamalus.cat/actualitat/oferta-formativa/taller-dautoproteccio-suport-vital-basic-i-dea.html
CLASS:PUBLIC
END:VEVENT
END:VCALENDAR
