BEGIN:VCALENDAR
VERSION:2.0
CALSCALE:GREGORIAN
PRODID:-//Diputació de Barcelona//DibaCMS//EN
BEGIN:VEVENT
UID:4695
DTSTAMP:20260423T104714
DTSTART:20240906T000000
DTEND:20241006T000000
SUMMARY:Usuaris de la TDT: Finalització del termini de les actuacions gratuïtes
LOCATION:
METHOD:PUBLISH
X-WR-CALNAME:canovesisamalus@canovesisamalus.cat
X-WR-TIMEZONE:Europe/Madrid
DESCRIPTION:A conseqüència de l’inici del servei de telefonia mòbil de nova generació (4G i 5G) que es va implantant a Cànoves i Samalús, s’han pogut produir afectacions sobre alguns veïns per la bona recepció de la televisió digital terrestre (TDT).

URI:https://www.canovesisamalus.cat/actualitat/noticies/usuaris-de-la-tdt-finalitzacio-del-termini-de-les-actuacions-gratuites.html
CLASS:PUBLIC
END:VEVENT
END:VCALENDAR
