BEGIN:VCALENDAR
VERSION:2.0
CALSCALE:GREGORIAN
PRODID:-//Diputació de Barcelona//DibaCMS//EN
BEGIN:VEVENT
UID:4696
DTSTAMP:20260423T101706
DTSTART:20240920T170000
DTEND:20240920T183000
SUMMARY: Caminada Verda
LOCATION:Josep Mª Tarridas, s/n  08445 Cànoves i Samalús
METHOD:PUBLISH
X-WR-CALNAME:canovesisamalus@canovesisamalus.cat
X-WR-TIMEZONE:Europe/Madrid
DESCRIPTION:En motiu de la celebració de la Setmana Europea de la Mobilitat Sostenible, que té lloc durant la setmana del 16 al 22 de setembre, l'Ajuntament de Cànoves i Samalús organitza aquesta caminada.

URI:https://www.canovesisamalus.cat/actualitat/agenda-municipal/-caminada-verda.html
CLASS:PUBLIC
END:VEVENT
END:VCALENDAR
