BEGIN:VCALENDAR
VERSION:2.0
CALSCALE:GREGORIAN
PRODID:-//Diputació de Barcelona//DibaCMS//EN
BEGIN:VEVENT
UID:4721
DTSTAMP:20260423T090215
DTSTART:20241012T083000
DTEND:20241012T200000
SUMMARY:Excursió a Puig-Reig
LOCATION:
METHOD:PUBLISH
X-WR-CALNAME:canovesisamalus@canovesisamalus.cat
X-WR-TIMEZONE:Europe/Madrid
DESCRIPTION:programa

 


Organitza:
Associació "El Suí" de Festes i Tradicions


URI:https://www.canovesisamalus.cat/actualitat/agenda-municipal/excursio-a-puig-reig.html
CLASS:PUBLIC
END:VEVENT
END:VCALENDAR
