BEGIN:VCALENDAR
VERSION:2.0
CALSCALE:GREGORIAN
PRODID:-//Diputació de Barcelona//DibaCMS//EN
BEGIN:VEVENT
UID:4725
DTSTAMP:20260423T091200
DTSTART:20241002T093000
DTEND:20241002T133000
SUMMARY:“Necessites contractar personal? Informa't sobre els contractes de treball amb bonificació o reducció vigents"
LOCATION:Centre de Formació La Mongia
Av. Jaume Morató, 18, Cardedeu 
METHOD:PUBLISH
X-WR-CALNAME:canovesisamalus@canovesisamalus.cat
X-WR-TIMEZONE:Europe/Madrid
DESCRIPTION:Des del Centre de Formació La Mongia, organitzen un Taller formatiu sobre contractació.

URI:https://www.canovesisamalus.cat/actualitat/oferta-formativa/necessites-contractar-personal-informat-sobre-els-contractes-de-treball-amb-bonificacio-o-reduccio-vigents.html
CLASS:PUBLIC
END:VEVENT
END:VCALENDAR
