BEGIN:VCALENDAR
VERSION:2.0
CALSCALE:GREGORIAN
PRODID:-//Diputació de Barcelona//DibaCMS//EN
BEGIN:VEVENT
UID:4741
DTSTAMP:20260423T100642
DTSTART:20241024T100000
DTEND:20241024T130000
SUMMARY:AULA TECNOLÒGICA - SEO ESTRATÈGIC: IMPULSA EL TEU NEGOCI AL MÀXIM NIVELL DIGITAL
LOCATION:
METHOD:PUBLISH
X-WR-CALNAME:canovesisamalus@canovesisamalus.cat
X-WR-TIMEZONE:Europe/Madrid
DESCRIPTION:Explora un enfocament avançat del SEO amb estratègies a llarg termini per millorar el posicionament del teu negoci als motors de cerca. Aprendràs a dissenyar una estratègia de contingut potent, a utilitzar eines SEO avançades i a mesurar resultats per assegurar un creixement digital constant i sostingut. Perfecte per a aquells que busquen portar el seu negoci digital al següent nivell

Formador: GUSTAVO SALINAS

INSCRIPCIÓ AQUÍ

URI:https://www.canovesisamalus.cat/actualitat/oferta-formativa/aula-tecnologica-seo-estrategic-impulsa-el-teu-negoci-al-maxim-nivell-digital.html
CLASS:PUBLIC
END:VEVENT
END:VCALENDAR
