BEGIN:VCALENDAR
VERSION:2.0
CALSCALE:GREGORIAN
PRODID:-//Diputació de Barcelona//DibaCMS//EN
BEGIN:VEVENT
UID:4765
DTSTAMP:20260423T090414
DTSTART:20241017T000000
DTEND:20241115T000000
SUMMARY:Un treball sobre les fonts del Pla de l’Estany i un altre sobre l’avifauna del riu Besòs, guanyadors del IX Premi de Treballs Acadèmics Sergi Mingote
LOCATION:
METHOD:PUBLISH
X-WR-CALNAME:canovesisamalus@canovesisamalus.cat
X-WR-TIMEZONE:Europe/Madrid
DESCRIPTION:En total, s’han distingit cinc treballs procedents d’instituts de Banyoles, Barcelona, la Garriga i Mataró.

URI:https://www.canovesisamalus.cat/actualitat/noticies/un-treball-sobre-les-fonts-del-pla-de-lestany-i-un-altre-sobre-lavifauna-del-riu-besos-guanyadors-del-ix-premi-de-treballs-academics-sergi-mingote.html
CLASS:PUBLIC
END:VEVENT
END:VCALENDAR
