BEGIN:VCALENDAR
VERSION:2.0
CALSCALE:GREGORIAN
PRODID:-//Diputació de Barcelona//DibaCMS//EN
BEGIN:VEVENT
UID:4803
DTSTAMP:20260423T064111
DTSTART:20241208T120000
DTEND:20241208T130000
SUMMARY:III Pessebre Vivent Infantil de Cànoves
LOCATION:Cànoves nucli 
METHOD:PUBLISH
X-WR-CALNAME:canovesisamalus@canovesisamalus.cat
X-WR-TIMEZONE:Europe/Madrid
DESCRIPTION:

URI:https://www.canovesisamalus.cat/actualitat/agenda-municipal/iii-pessebre-vivent-infantil-de-canoves.html
CLASS:PUBLIC
END:VEVENT
END:VCALENDAR
