BEGIN:VCALENDAR
VERSION:2.0
CALSCALE:GREGORIAN
PRODID:-//Diputació de Barcelona//DibaCMS//EN
BEGIN:VEVENT
UID:4810
DTSTAMP:20260423T075243
DTSTART:20241206T170000
DTEND:20241206T220000
SUMMARY:Fira de Nadal
LOCATION:Av. Josep Crous, s/n  08445 Cànoves i Samalús
METHOD:PUBLISH
X-WR-CALNAME:canovesisamalus@canovesisamalus.cat
X-WR-TIMEZONE:Europe/Madrid
DESCRIPTION:

URI:https://www.canovesisamalus.cat/actualitat/agenda-municipal/4810-fira-de-nadal.html
CLASS:PUBLIC
END:VEVENT
END:VCALENDAR
