BEGIN:VCALENDAR
VERSION:2.0
CALSCALE:GREGORIAN
PRODID:-//Diputació de Barcelona//DibaCMS//EN
BEGIN:VEVENT
UID:4836
DTSTAMP:20260423T063955
DTSTART:20241213T163000
DTEND:20241213T180000
SUMMARY:VENDA DE MANUALITATS I XOCOLATADA SOLIDÀRIA
LOCATION:Camp de Can Parera, s/n  08445 Cànoves i Samalús
METHOD:PUBLISH
X-WR-CALNAME:canovesisamalus@canovesisamalus.cat
X-WR-TIMEZONE:Europe/Madrid
DESCRIPTION:Activitat integrada al programa de Cànoves i Samalús per La Marató de TV3.

La recaptació és íntegre per La Marató.

URI:https://www.canovesisamalus.cat/actualitat/agenda-municipal/venda-de-manualitats-i-xocolatada-solidaria.html
CLASS:PUBLIC
END:VEVENT
END:VCALENDAR
