BEGIN:VCALENDAR
VERSION:2.0
CALSCALE:GREGORIAN
PRODID:-//Diputació de Barcelona//DibaCMS//EN
BEGIN:VEVENT
UID:4846
DTSTAMP:20260423T064011
DTSTART:20250103T170000
DTEND:20250103T183000
SUMMARY:Taller de Fanalets
LOCATION:Can Casademunt, s/n  08445 Cànoves i Samalús
METHOD:PUBLISH
X-WR-CALNAME:canovesisamalus@canovesisamalus.cat
X-WR-TIMEZONE:Europe/Madrid
DESCRIPTION:
URI:https://www.canovesisamalus.cat/actualitat/agenda-municipal/4846-taller-de-fanalets.html
CLASS:PUBLIC
END:VEVENT
END:VCALENDAR
