BEGIN:VCALENDAR
VERSION:2.0
CALSCALE:GREGORIAN
PRODID:-//Diputació de Barcelona//DibaCMS//EN
BEGIN:VEVENT
UID:4877
DTSTAMP:20260423T063352
DTSTART:20250101T010000
DTEND:20250101T070000
SUMMARY:Revetlla de Cap d'Any
LOCATION:Josep Mª Tarridas, s/n  08445 Cànoves i Samalús
METHOD:PUBLISH
X-WR-CALNAME:canovesisamalus@canovesisamalus.cat
X-WR-TIMEZONE:Europe/Madrid
DESCRIPTION:Benvingut 2025!

URI:https://www.canovesisamalus.cat/actualitat/agenda-municipal/revetlla-de-cap-dany.html
CLASS:PUBLIC
END:VEVENT
END:VCALENDAR
