BEGIN:VCALENDAR
VERSION:2.0
CALSCALE:GREGORIAN
PRODID:-//Diputació de Barcelona//DibaCMS//EN
BEGIN:VEVENT
UID:495
DTSTAMP:20260422T130908
DTSTART:20170407T180000
DTEND:20170407T194500
SUMMARY:V Torneig de Futbol
LOCATION:
METHOD:PUBLISH
X-WR-CALNAME:canovesisamalus@canovesisamalus.cat
X-WR-TIMEZONE:Europe/Madrid
DESCRIPTION:Si tens entre 12 i 16 anys t'esperem aquest divendres a la pista poliesportiva.

 

URI:https://www.canovesisamalus.cat/actualitat/agenda-municipal/495-v-torneig-de-futbol.html
CLASS:PUBLIC
END:VEVENT
END:VCALENDAR
