BEGIN:VCALENDAR
VERSION:2.0
CALSCALE:GREGORIAN
PRODID:-//Diputació de Barcelona//DibaCMS//EN
BEGIN:VEVENT
UID:500
DTSTAMP:20260422T114640
DTSTART:20170407T173000
DTEND:20170407T190000
SUMMARY:Taller de manualitats infantils - Primavera i Sant Jordi
LOCATION:
METHOD:PUBLISH
X-WR-CALNAME:canovesisamalus@canovesisamalus.cat
X-WR-TIMEZONE:Europe/Madrid
DESCRIPTION:Activitat orientada a nens i nenes de 2  a 12 anys.

URI:https://www.canovesisamalus.cat/actualitat/oferta-formativa/taller-de-manualitats-infantils-primavera-i-sant-jordi.html
CLASS:PUBLIC
END:VEVENT
END:VCALENDAR
