BEGIN:VCALENDAR
VERSION:2.0
CALSCALE:GREGORIAN
PRODID:-//Diputació de Barcelona//DibaCMS//EN
BEGIN:VEVENT
UID:5005
DTSTAMP:20260423T030116
DTSTART:20250311T000000
DTEND:20250410T000000
SUMMARY:La XV edició de la ‘Fira Lliga’t a la Terra’ se celebrarà el 26 d’abril a Santa Eulàlia de Ronçana
LOCATION:
METHOD:PUBLISH
X-WR-CALNAME:canovesisamalus@canovesisamalus.cat
X-WR-TIMEZONE:Europe/Madrid
DESCRIPTION:La fira del planter de varietats locals del Vallès acollirà parades de productes de proximitat i tallers i es podrá recollir la comanda de planter de tomaqueres.

URI:https://www.canovesisamalus.cat/actualitat/noticies/la-xv-edicio-de-la-fira-lligat-a-la-terra-se-celebrara-el-26-dabril-a-santa-eulalia-de-roncana.html
CLASS:PUBLIC
END:VEVENT
END:VCALENDAR
