BEGIN:VCALENDAR
VERSION:2.0
CALSCALE:GREGORIAN
PRODID:-//Diputació de Barcelona//DibaCMS//EN
BEGIN:VEVENT
UID:5008
DTSTAMP:20260423T041349
DTSTART:20250313T130000
DTEND:20250327T000000
SUMMARY:Premi Talent JoveVO
LOCATION:
METHOD:PUBLISH
X-WR-CALNAME:canovesisamalus@canovesisamalus.cat
X-WR-TIMEZONE:Europe/Madrid
DESCRIPTION:L’Ajuntament crida al jovent del municipi per animar-lo a participar al Premi Talent JoveVO.

URI:https://www.canovesisamalus.cat/actualitat/noticies/premi-talent-jovevo.html
CLASS:PUBLIC
END:VEVENT
END:VCALENDAR
