BEGIN:VCALENDAR
VERSION:2.0
CALSCALE:GREGORIAN
PRODID:-//Diputació de Barcelona//DibaCMS//EN
BEGIN:VEVENT
UID:504
DTSTAMP:20260422T113654
DTSTART:20170411T170000
DTEND:20170411T190000
SUMMARY:Taller de rosquilles de Quaresma
LOCATION:
METHOD:PUBLISH
X-WR-CALNAME:canovesisamalus@canovesisamalus.cat
X-WR-TIMEZONE:Europe/Madrid
DESCRIPTION:Taller de cuina per a totes les edats on es faran les típiques rosquilles de Quaresme. 

URI:https://www.canovesisamalus.cat/actualitat/oferta-formativa/taller-de-rosquilles-de-quaresma.html
CLASS:PUBLIC
END:VEVENT
END:VCALENDAR
