BEGIN:VCALENDAR
VERSION:2.0
CALSCALE:GREGORIAN
PRODID:-//Diputació de Barcelona//DibaCMS//EN
BEGIN:VEVENT
UID:506
DTSTAMP:20260422T170339
DTSTART:20170412T170000
DTEND:20170412T190000
SUMMARY:Taller d'ous de Pasqua
LOCATION:
METHOD:PUBLISH
X-WR-CALNAME:canovesisamalus@canovesisamalus.cat
X-WR-TIMEZONE:Europe/Madrid
DESCRIPTION:Taller de cuina d'ous de Pasqua orientats pels més petits de la casa.

URI:https://www.canovesisamalus.cat/actualitat/oferta-formativa/taller-dous-de-pasqua.html
CLASS:PUBLIC
END:VEVENT
END:VCALENDAR
