BEGIN:VCALENDAR
VERSION:2.0
CALSCALE:GREGORIAN
PRODID:-//Diputació de Barcelona//DibaCMS//EN
BEGIN:VEVENT
UID:5082
DTSTAMP:20260423T014737
DTSTART:20250516T113000
DTEND:20250516T130000
SUMMARY:Banca mòbil de Catalunya
LOCATION:CAP Cànoves: Zona de l'aparcament 
METHOD:PUBLISH
X-WR-CALNAME:canovesisamalus@canovesisamalus.cat
X-WR-TIMEZONE:Europe/Madrid
DESCRIPTION:Banca mòbil de Catalunya
Cap municipi sense serveis bancaris

URI:https://www.canovesisamalus.cat/actualitat/agenda-municipal/5082-banca-mobil-de-catalunya.html
CLASS:PUBLIC
END:VEVENT
END:VCALENDAR
