BEGIN:VCALENDAR
VERSION:2.0
CALSCALE:GREGORIAN
PRODID:-//Diputació de Barcelona//DibaCMS//EN
BEGIN:VEVENT
UID:5097
DTSTAMP:20260423T024916
DTSTART:20250429T000000
DTEND:20250529T000000
SUMMARY:Les germanes Charansonnet, Fanta Toure i Jana Mas, finalistes del premi Talent Jove 2024 
LOCATION:
METHOD:PUBLISH
X-WR-CALNAME:canovesisamalus@canovesisamalus.cat
X-WR-TIMEZONE:Europe/Madrid
DESCRIPTION:El premi l’atorga el Consell Comarcal en col·laboració amb Premsa d’Osona SA i està emmarcat en el premi “Vallesà de l'Any”. Vol posar en valor la joventut vallesana que destaca en algun tipus de sector o d’activitat.

URI:https://www.canovesisamalus.cat/actualitat/noticies/les-germanes-charansonnet-fanta-toure-i-jana-mas-finalistes-del-premi-talent-jove-2024-.html
CLASS:PUBLIC
END:VEVENT
END:VCALENDAR
