BEGIN:VCALENDAR
VERSION:2.0
CALSCALE:GREGORIAN
PRODID:-//Diputació de Barcelona//DibaCMS//EN
BEGIN:VEVENT
UID:5101
DTSTAMP:20260423T025201
DTSTART:20250514T000000
DTEND:20250519T000000
SUMMARY:Nou Itinerarius al riu Congost, entre les Franqueses del Vallès i la Garriga, dissabte 17 de maig 
LOCATION:
METHOD:PUBLISH
X-WR-CALNAME:canovesisamalus@canovesisamalus.cat
X-WR-TIMEZONE:Europe/Madrid
DESCRIPTION:Aquesta passejada se suma a la iniciativa mundial Walking Rivers, que promou la celebració de caminades aquest mateix dia arreu del món per acostar la ciutadania als entorns fluvials.

URI:https://www.canovesisamalus.cat/actualitat/noticies/nou-itinerarius-al-riu-congost-entre-les-franqueses-del-valles-i-la-garriga-dissabte-17-de-maig.html
CLASS:PUBLIC
END:VEVENT
END:VCALENDAR
