BEGIN:VCALENDAR
VERSION:2.0
CALSCALE:GREGORIAN
PRODID:-//Diputació de Barcelona//DibaCMS//EN
BEGIN:VEVENT
UID:5106
DTSTAMP:20260426T002558
DTSTART:20250509T173000
DTEND:20250509T190000
SUMMARY:Xerrada-taller M'estimo
LOCATION:
METHOD:PUBLISH
X-WR-CALNAME:canovesisamalus@canovesisamalus.cat
X-WR-TIMEZONE:Europe/Madrid
DESCRIPTION:Darrera sessió del cicle de xerrades "M'estimo", adreçada a joves que estiguin cursant 6è i l'ESO. 
Inscripcions al 699 385 264. 
 

URI:https://www.canovesisamalus.cat/actualitat/oferta-formativa/xerrada-taller-mestimo.html
CLASS:PUBLIC
END:VEVENT
END:VCALENDAR
