BEGIN:VCALENDAR
VERSION:2.0
CALSCALE:GREGORIAN
PRODID:-//Diputació de Barcelona//DibaCMS//EN
BEGIN:VEVENT
UID:511
DTSTAMP:20260422T181621
DTSTART:20170413T105500
DTEND:20170413T105500
SUMMARY:Concurs de carbasses
LOCATION:
METHOD:PUBLISH
X-WR-CALNAME:canovesisamalus@canovesisamalus.cat
X-WR-TIMEZONE:Europe/Madrid
DESCRIPTION:Arriba la primavera i el mes d'abril... !  I segons dites populars diuen que hem de plantar les carbasses el Dijous Sant. 

URI:https://www.canovesisamalus.cat/actualitat/agenda-municipal/concurs-de-carbasses.html
CLASS:PUBLIC
END:VEVENT
END:VCALENDAR
