BEGIN:VCALENDAR
VERSION:2.0
CALSCALE:GREGORIAN
PRODID:-//Diputació de Barcelona//DibaCMS//EN
BEGIN:VEVENT
UID:5120
DTSTAMP:20260423T014605
DTSTART:20250512T000000
DTEND:20250611T000000
SUMMARY:Inaugurada l’EDAR la Costa del Montseny per millorar el sanejament de Fogars de Montclús 
LOCATION:
METHOD:PUBLISH
X-WR-CALNAME:canovesisamalus@canovesisamalus.cat
X-WR-TIMEZONE:Europe/Madrid
DESCRIPTION:
	L’acte va estar presidit per la consellera de Territori, Habitatge i Transició Hídrica, Sílvia Paneque; el president del Consorci Besòs Tordera, Óscar Sierra, i l’alcalde de Fogars de Montclús, Albert Rovira.
	La nova depuradora té una capacitat de tractament de 12 m3/dia, donant resposta a les necessitats de sanejament actuals i futures del nucli residencial la Costa del Montseny.
	La instal·lació suposa una important millora en la qualitat de l’aigua efluent en una zona catalogada Parc Natural i Reserva de la Biosfera del Montseny.


URI:https://www.canovesisamalus.cat/actualitat/noticies/inaugurada-ledar-la-costa-del-montseny-per-millorar-el-sanejament-de-fogars-de-montclus.html
CLASS:PUBLIC
END:VEVENT
END:VCALENDAR
