BEGIN:VCALENDAR
VERSION:2.0
CALSCALE:GREGORIAN
PRODID:-//Diputació de Barcelona//DibaCMS//EN
BEGIN:VEVENT
UID:5123
DTSTAMP:20260423T040856
DTSTART:20250517T000000
DTEND:20250517T235900
SUMMARY:17 de maig:  Dia Internacional contra LGTBIFobia
LOCATION:
METHOD:PUBLISH
X-WR-CALNAME:canovesisamalus@canovesisamalus.cat
X-WR-TIMEZONE:Europe/Madrid
DESCRIPTION:Manifest pel Dia Internacional contra LGTBIFobia

URI:https://www.canovesisamalus.cat/actualitat/noticies/17-de-maig-dia-internacional-contra-lgtbifobia.html
CLASS:PUBLIC
END:VEVENT
END:VCALENDAR
