BEGIN:VCALENDAR
VERSION:2.0
CALSCALE:GREGORIAN
PRODID:-//Diputació de Barcelona//DibaCMS//EN
BEGIN:VEVENT
UID:513
DTSTAMP:20260422T141424
DTSTART:20170423T090000
DTEND:20170423T200000
SUMMARY:Diada de Sant Jordi
LOCATION:
METHOD:PUBLISH
X-WR-CALNAME:canovesisamalus@canovesisamalus.cat
X-WR-TIMEZONE:Europe/Madrid
DESCRIPTION:Programació dels actes que s'organitzen al municipi.

URI:https://www.canovesisamalus.cat/actualitat/agenda-municipal/513-diada-de-sant-jordi.html
CLASS:PUBLIC
END:VEVENT
END:VCALENDAR
