BEGIN:VCALENDAR
VERSION:2.0
CALSCALE:GREGORIAN
PRODID:-//Diputació de Barcelona//DibaCMS//EN
BEGIN:VEVENT
UID:5136
DTSTAMP:20260423T040829
DTSTART:20250521T000000
DTEND:20250620T000000
SUMMARY:Una setantena de persones descobreixen el riu Congost amb l’activitat “ItineraRius Walking Rivers”
LOCATION:
METHOD:PUBLISH
X-WR-CALNAME:canovesisamalus@canovesisamalus.cat
X-WR-TIMEZONE:Europe/Madrid
DESCRIPTION:La caminada ha permès conèixer espais com la bassa del Parc del Falgar, l’EDAR la Garriga i l’antic camp d’aviació de Rosanes.

URI:https://www.canovesisamalus.cat/actualitat/noticies/una-setantena-de-persones-descobreixen-el-riu-congost-amb-lactivitat-itinerarius-walking-rivers.html
CLASS:PUBLIC
END:VEVENT
END:VCALENDAR
