BEGIN:VCALENDAR
VERSION:2.0
CALSCALE:GREGORIAN
PRODID:-//Diputació de Barcelona//DibaCMS//EN
BEGIN:VEVENT
UID:5148
DTSTAMP:20260423T074526
DTSTART:20250523T000000
DTEND:20250801T000000
SUMMARY:CANVI DEL SISTEMA DE RECOLLIDA DE RESIDUS
LOCATION:
METHOD:PUBLISH
X-WR-CALNAME:canovesisamalus@canovesisamalus.cat
X-WR-TIMEZONE:Europe/Madrid
DESCRIPTION:El Govern municipal porta a terme un canvi  del sistema actual de recollida de residus per un nou model de contenidors tancats.

URI:https://www.canovesisamalus.cat/actualitat/noticies/5148-canvi-del-sistema-de-recollida-de-residus.html
CLASS:PUBLIC
END:VEVENT
END:VCALENDAR
