BEGIN:VCALENDAR
VERSION:2.0
CALSCALE:GREGORIAN
PRODID:-//Diputació de Barcelona//DibaCMS//EN
BEGIN:VEVENT
UID:515
DTSTAMP:20260422T142136
DTSTART:20170410T063000
DTEND:20170507T134000
SUMMARY:Nou gestor pel centre cívic de Samalús
LOCATION:
METHOD:PUBLISH
X-WR-CALNAME:canovesisamalus@canovesisamalus.cat
X-WR-TIMEZONE:Europe/Madrid
DESCRIPTION:Aquest vespre, Josep Cuch es reunirà amb els veïns de Samalús a la mateixa seu per tractar el nou reglament del centre cívic de Samalús. 

 

URI:https://www.canovesisamalus.cat/actualitat/noticies/nou-gestor-pel-centre-civic-de-samalus.html
CLASS:PUBLIC
END:VEVENT
END:VCALENDAR
