BEGIN:VCALENDAR
VERSION:2.0
CALSCALE:GREGORIAN
PRODID:-//Diputació de Barcelona//DibaCMS//EN
BEGIN:VEVENT
UID:5151
DTSTAMP:20260423T003850
DTSTART:20250526T120000
DTEND:20250609T000000
SUMMARY:La Fundació RIVUS organitza el tercer cens visual de llúdriga i altra fauna fluvial
LOCATION:
METHOD:PUBLISH
X-WR-CALNAME:canovesisamalus@canovesisamalus.cat
X-WR-TIMEZONE:Europe/Madrid
DESCRIPTION:L’activitat tindrà lloc el dissabte 7 de juny al llarg dels rius Mogent i Congost, inclosos dins l’espai Xarxa Natura 2000.
Les inscripcions ja estan obertes a fundaciorivus.cat

URI:https://www.canovesisamalus.cat/actualitat/noticies/la-fundacio-rivus-organitza-el-tercer-cens-visual-de-lludriga-i-altra-fauna-fluvial.html
CLASS:PUBLIC
END:VEVENT
END:VCALENDAR
