BEGIN:VCALENDAR
VERSION:2.0
CALSCALE:GREGORIAN
PRODID:-//Diputació de Barcelona//DibaCMS//EN
BEGIN:VEVENT
UID:5152
DTSTAMP:20260423T040814
DTSTART:20250528T000000
DTEND:20250630T000000
SUMMARY:Més de 4.300 persones han deixat de fumar el darrer any al territori del Vallès Oriental de l’Atenció Primària de l’ICS
LOCATION:
METHOD:PUBLISH
X-WR-CALNAME:canovesisamalus@canovesisamalus.cat
X-WR-TIMEZONE:Europe/Madrid
DESCRIPTION:Setmana Sense Fum (del 25 al 31 de maig) i  Dia Mundial sense Tabac (31 de maig)

URI:https://www.canovesisamalus.cat/actualitat/noticies/mes-de-4300-persones-han-deixat-de-fumar-el-darrer-any-al-territori-del-valles-oriental-de-latencio-primaria-de-lics.html
CLASS:PUBLIC
END:VEVENT
END:VCALENDAR
