BEGIN:VCALENDAR
VERSION:2.0
CALSCALE:GREGORIAN
PRODID:-//Diputació de Barcelona//DibaCMS//EN
BEGIN:VEVENT
UID:516
DTSTAMP:20260422T171026
DTSTART:20170411T063000
DTEND:20170510T122500
SUMMARY:L'Escola l'Estelada finalista
LOCATION:
METHOD:PUBLISH
X-WR-CALNAME:canovesisamalus@canovesisamalus.cat
X-WR-TIMEZONE:Europe/Madrid
DESCRIPTION:L’Escola l'Estelada queda  finalista al XIIIè Certamen Nacional Infantil i Juvenil de Lectura en Veu Alta, gràcies a Andreu Silvestre.

URI:https://www.canovesisamalus.cat/actualitat/noticies/lescola-lestelada-finalista.html
CLASS:PUBLIC
END:VEVENT
END:VCALENDAR
