BEGIN:VCALENDAR
VERSION:2.0
CALSCALE:GREGORIAN
PRODID:-//Diputació de Barcelona//DibaCMS//EN
BEGIN:VEVENT
UID:5166
DTSTAMP:20260423T004348
DTSTART:20250530T000000
DTEND:20250701T000000
SUMMARY:Canvi d’empresa de recollida de roba utilitzada
LOCATION:
METHOD:PUBLISH
X-WR-CALNAME:canovesisamalus@canovesisamalus.cat
X-WR-TIMEZONE:Europe/Madrid
DESCRIPTION:Donar una segona vida a la roba utilitzada aporta llocs de treball i sostenibilitat mediambiental.

URI:https://www.canovesisamalus.cat/actualitat/noticies/canvi-dempresa-de-recollida-de-roba-utilitzada.html
CLASS:PUBLIC
END:VEVENT
END:VCALENDAR
