BEGIN:VCALENDAR
VERSION:2.0
CALSCALE:GREGORIAN
PRODID:-//Diputació de Barcelona//DibaCMS//EN
BEGIN:VEVENT
UID:5167
DTSTAMP:20260423T041216
DTSTART:20250529T170000
DTEND:20250628T000000
SUMMARY:L’empresa HOLCIM i la Fundació RIVUS han signat un conveni de col·laboració
LOCATION:
METHOD:PUBLISH
X-WR-CALNAME:canovesisamalus@canovesisamalus.cat
X-WR-TIMEZONE:Europe/Madrid
DESCRIPTION:En el marc d’aquest conveni, el dissabte 14 de juny al matí es durà a terme una activitat de divulgació i educació ambientals al passeig fluvial del Besòs, a Montcada i Reixac.

URI:https://www.canovesisamalus.cat/actualitat/noticies/lempresa-holcim-i-la-fundacio-rivus-han-signat-un-conveni-de-collaboracio.html
CLASS:PUBLIC
END:VEVENT
END:VCALENDAR
