BEGIN:VCALENDAR
VERSION:2.0
CALSCALE:GREGORIAN
PRODID:-//Diputació de Barcelona//DibaCMS//EN
BEGIN:VEVENT
UID:5168
DTSTAMP:20260423T025125
DTSTART:20250602T000000
DTEND:20250628T000000
SUMMARY:El Consell Comarcal amb 22 ajuntaments contractaran 92 persones en el marc del Programa Treball i Formació
LOCATION:
METHOD:PUBLISH
X-WR-CALNAME:canovesisamalus@canovesisamalus.cat
X-WR-TIMEZONE:Europe/Madrid
DESCRIPTION:Les contractacions es faran de manera esglaonada els mesos de juliol, setembre i octubre i les persones interessades hauran d’estar donades d’alta com a demandants d’ocupació no ocupades (DONO).

URI:https://www.canovesisamalus.cat/actualitat/noticies/el-consell-comarcal-amb-22-ajuntaments-contractaran-92-persones-en-el-marc-del-programa-treball-i-formacio.html
CLASS:PUBLIC
END:VEVENT
END:VCALENDAR
