BEGIN:VCALENDAR
VERSION:2.0
CALSCALE:GREGORIAN
PRODID:-//Diputació de Barcelona//DibaCMS//EN
BEGIN:VEVENT
UID:5175
DTSTAMP:20260423T025347
DTSTART:20250604T000000
DTEND:20251001T000000
SUMMARY:El Consell Comarcal impulsa una enquesta per conèixer la percepció del turisme al Vallès Oriental
LOCATION:
METHOD:PUBLISH
X-WR-CALNAME:canovesisamalus@canovesisamalus.cat
X-WR-TIMEZONE:Europe/Madrid
DESCRIPTION:L’enquesta es pot contestar en línia i romandrà oberta fins el 30 de setembre.

URI:https://www.canovesisamalus.cat/actualitat/noticies/el-consell-comarcal-impulsa-una-enquesta-per-coneixer-la-percepcio-del-turisme-al-valles-oriental.html
CLASS:PUBLIC
END:VEVENT
END:VCALENDAR
