BEGIN:VCALENDAR
VERSION:2.0
CALSCALE:GREGORIAN
PRODID:-//Diputació de Barcelona//DibaCMS//EN
BEGIN:VEVENT
UID:5178
DTSTAMP:20260423T003547
DTSTART:20250611T000000
DTEND:20250721T000000
SUMMARY:Cànoves i Samalús a VOTV aquest juny
LOCATION:
METHOD:PUBLISH
X-WR-CALNAME:canovesisamalus@canovesisamalus.cat
X-WR-TIMEZONE:Europe/Madrid
DESCRIPTION:Estigues al dia del què passa al municipi aquest mes de juny.
Especial Festa Major de Cànoves.

URI:https://www.canovesisamalus.cat/actualitat/noticies/5178-canoves-i-samalus-a-votv-aquest-juny.html
CLASS:PUBLIC
END:VEVENT
END:VCALENDAR
