BEGIN:VCALENDAR
VERSION:2.0
CALSCALE:GREGORIAN
PRODID:-//Diputació de Barcelona//DibaCMS//EN
BEGIN:VEVENT
UID:518
DTSTAMP:20260422T141652
DTSTART:20170507T090000
DTEND:20170507T140000
SUMMARY:Mercat Boig a Ca l'Esmandia
LOCATION:
METHOD:PUBLISH
X-WR-CALNAME:canovesisamalus@canovesisamalus.cat
X-WR-TIMEZONE:Europe/Madrid
DESCRIPTION:Ven tot el que ja no necessitis.  Compra veritables gangues.

URI:https://www.canovesisamalus.cat/actualitat/agenda-municipal/mercat-boig-a-ca-lesmandia.html
CLASS:PUBLIC
END:VEVENT
END:VCALENDAR
