BEGIN:VCALENDAR
VERSION:2.0
CALSCALE:GREGORIAN
PRODID:-//Diputació de Barcelona//DibaCMS//EN
BEGIN:VEVENT
UID:5180
DTSTAMP:20260423T014637
DTSTART:20250609T000000
DTEND:20250615T000000
SUMMARY:14 de juny: Dia Mundial de les Persones Donants de sang 
LOCATION:
METHOD:PUBLISH
X-WR-CALNAME:canovesisamalus@canovesisamalus.cat
X-WR-TIMEZONE:Europe/Madrid
DESCRIPTION:El Banc de Sang i Teixits celebra enguany tota una setmana dedicada als donants de sang coincidint amb el Dia Mundial

URI:https://www.canovesisamalus.cat/actualitat/noticies/14-de-juny-dia-mundial-de-les-persones-donants-de-sang.html
CLASS:PUBLIC
END:VEVENT
END:VCALENDAR
