BEGIN:VCALENDAR
VERSION:2.0
CALSCALE:GREGORIAN
PRODID:-//Diputació de Barcelona//DibaCMS//EN
BEGIN:VEVENT
UID:5188
DTSTAMP:20260423T003707
DTSTART:20250613T000000
DTEND:20250715T000000
SUMMARY:Com atreure i retenir talent, el repte per a empreses i administracions de la comarca
LOCATION:
METHOD:PUBLISH
X-WR-CALNAME:canovesisamalus@canovesisamalus.cat
X-WR-TIMEZONE:Europe/Madrid
DESCRIPTION:La jornada “Captació i retenció del talent” va reunir un centenar de professionals en la gestió de persones ahir pel matí al Teatre Margarida Xirgu de Montornès del Vallès.

URI:https://www.canovesisamalus.cat/actualitat/noticies/com-atreure-i-retenir-talent-el-repte-per-a-empreses-i-administracions-de-la-comarca.html
CLASS:PUBLIC
END:VEVENT
END:VCALENDAR
