BEGIN:VCALENDAR
VERSION:2.0
CALSCALE:GREGORIAN
PRODID:-//Diputació de Barcelona//DibaCMS//EN
BEGIN:VEVENT
UID:5189
DTSTAMP:20260423T004327
DTSTART:20250620T000000
DTEND:20250717T000000
SUMMARY:Més de 50 espècies observades en el tercer cens visual de llúdriga i fauna fluvial als rius Mogent i Congost
LOCATION:
METHOD:PUBLISH
X-WR-CALNAME:canovesisamalus@canovesisamalus.cat
X-WR-TIMEZONE:Europe/Madrid
DESCRIPTION:La Fundació RIVUS impulsa aquesta activitat participativa dins l’Espai Xarxa Natura 2000 i el seu projecte Hàbitats CoMBe.

URI:https://www.canovesisamalus.cat/actualitat/noticies/mes-de-50-especies-observades-en-el-tercer-cens-visual-de-lludriga-i-fauna-fluvial-als-rius-mogent-i-congost.html
CLASS:PUBLIC
END:VEVENT
END:VCALENDAR
