BEGIN:VCALENDAR
VERSION:2.0
CALSCALE:GREGORIAN
PRODID:-//Diputació de Barcelona//DibaCMS//EN
BEGIN:VEVENT
UID:5190
DTSTAMP:20260423T014459
DTSTART:20250616T000000
DTEND:20250705T000000
SUMMARY:AJUTS INDIVIDUALS DE MENJADOR: Convocatòria 2025-2026
LOCATION:
METHOD:PUBLISH
X-WR-CALNAME:canovesisamalus@canovesisamalus.cat
X-WR-TIMEZONE:Europe/Madrid
DESCRIPTION:Avui comença el termini per la presentació de sol·licituds dels ajuts individuals de menjador i finalitza el 4 de juliol de 2025, ambdós inclosos.

URI:https://www.canovesisamalus.cat/actualitat/noticies/ajuts-individuals-de-menjador-convocatoria-2025-2026.html
CLASS:PUBLIC
END:VEVENT
END:VCALENDAR
