BEGIN:VCALENDAR
VERSION:2.0
CALSCALE:GREGORIAN
PRODID:-//Diputació de Barcelona//DibaCMS//EN
BEGIN:VEVENT
UID:5193
DTSTAMP:20260423T041304
DTSTART:20250618T000000
DTEND:20250721T000000
SUMMARY:Què és l'arbritatge de consum?
LOCATION:
METHOD:PUBLISH
X-WR-CALNAME:canovesisamalus@canovesisamalus.cat
X-WR-TIMEZONE:Europe/Madrid
DESCRIPTION:El passat dia 4 d’abril va entrar en vigor la Llei 1/2025 de mesures en matèria d’eficiència del Servei Públic de Justícia.  Una de les aportacions més importants fa referencia als Mitjans Adequats de Solució de controvèrsies (MASC). En l’àmbit del consum podríem parlar de la mediació com a mitjà de solució de controvèrsies. Actualment és un tràmit obligat abans d’accedir a la via judicial.

URI:https://www.canovesisamalus.cat/actualitat/noticies/que-es-larbritatge-de-consum.html
CLASS:PUBLIC
END:VEVENT
END:VCALENDAR
