BEGIN:VCALENDAR
VERSION:2.0
CALSCALE:GREGORIAN
PRODID:-//Diputació de Barcelona//DibaCMS//EN
BEGIN:VEVENT
UID:520
DTSTAMP:20260422T170218
DTSTART:20170418T063000
DTEND:20170511T125500
SUMMARY:Networking empresarial d'abast comarcal
LOCATION:
METHOD:PUBLISH
X-WR-CALNAME:canovesisamalus@canovesisamalus.cat
X-WR-TIMEZONE:Europe/Madrid
DESCRIPTION:Networking i simbiosi al 3r Fòrum Industrial i Empresarial el 27 abril a Sant Pere de Vilamajor.

URI:https://www.canovesisamalus.cat/actualitat/noticies/networking-empresarial-dabast-comarcal.html
CLASS:PUBLIC
END:VEVENT
END:VCALENDAR
